BEGIN:VCALENDAR
VERSION:2.0
PRODID:-//81.17.255.244//NONSGML kigkonsult.se iCalcreator 2.20//
CALSCALE:GREGORIAN
METHOD:PUBLISH
X-WR-CALNAME:IEMTA
X-WR-CALDESC:Irish Emergency Medicine Trainees Association
X-FROM-URL:http://www.iemta.ie/a
X-WR-TIMEZONE:Europe/Dublin
BEGIN:VTIMEZONE
TZID:Europe/Dublin
X-LIC-LOCATION:Europe/Dublin
BEGIN:STANDARD
DTSTART:20171029T020000
TZOFFSETFROM:+0100
TZOFFSETTO:+0000
TZNAME:GMT
END:STANDARD
BEGIN:DAYLIGHT
DTSTART:20180325T010000
TZOFFSETFROM:+0000
TZOFFSETTO:+0100
TZNAME:IST
END:DAYLIGHT
END:VTIMEZONE
BEGIN:VEVENT
UID:ai1ec-487@www.iemta.ie/a
DTSTAMP:20171107T122644Z
CATEGORIES;LANGUAGE=en-US:EM Events
CONTACT:Jacintha Vallely / Helen Tobin\; 01 716 6665 / 6410\; cemshelp@ucd.
 ie\; http://www.ucd.ie/centreems
DESCRIPTION:UCD CEMS 2015 Research Symposium – Programme\nTickets: http://w
 ww.ucd.ie/medicine/ourresearch/researchcentres/centreforemergencymedicalsc
 ience/researchsymposium/.
DTSTART;TZID=Europe/Dublin:20150516T090000
DTEND;TZID=Europe/Dublin:20150516T161500
GEO:+53.307262;-6.219077
LOCATION:UCD Health Sciences Centre @ University College Dublin\, Belfield\
 , Dublin 4\, Ireland
SEQUENCE:0
SUMMARY:UCD CEMS 2015 Research Symposium
URL:http://www.iemta.ie/a/event/ucd-cems-2015-research-symposium/
X-ALT-DESC;FMTTYPE=text/html:<!DOCTYPE HTML PUBLIC '-//W3C//DTD HTML 3.2//E
 N'>\\n<HTML>\\n<HEAD>\\n<TITLE></TITLE>\\n</HEAD>\\n<BODY><p><a href='http
 ://www.iemta.ie/a/wp-content/uploads/2015/03/2015SymposiumProgramme_Poster
 .pdf'>UCD CEMS 2015 Research Symposium – Programme</a></p>\n<p>Tickets: <a
  class='ai1ec-ticket-url-exported' href='http://www.ucd.ie/medicine/ourres
 earch/researchcentres/centreforemergencymedicalscience/researchsymposium/'
 >http://www.ucd.ie/medicine/ourresearch/researchcentres/centreforemergency
 medicalscience/researchsymposium/</a>.</p></BODY></HTML>
X-COST:€30
X-TICKETS-URL:http://www.ucd.ie/medicine/ourresearch/researchcentres/centre
 foremergencymedicalscience/researchsymposium/
END:VEVENT
END:VCALENDAR
