BEGIN:VCALENDAR
VERSION:2.0
PRODID:-//81.17.255.244//NONSGML kigkonsult.se iCalcreator 2.20//
CALSCALE:GREGORIAN
METHOD:PUBLISH
X-WR-CALNAME:IEMTA
X-WR-CALDESC:Irish Emergency Medicine Trainees Association
X-FROM-URL:http://www.iemta.ie/a
X-WR-TIMEZONE:Europe/Dublin
BEGIN:VTIMEZONE
TZID:Europe/Dublin
X-LIC-LOCATION:Europe/Dublin
BEGIN:STANDARD
DTSTART:20171029T020000
TZOFFSETFROM:+0100
TZOFFSETTO:+0000
TZNAME:GMT
END:STANDARD
BEGIN:DAYLIGHT
DTSTART:20180325T010000
TZOFFSETFROM:+0000
TZOFFSETTO:+0100
TZNAME:IST
END:DAYLIGHT
END:VTIMEZONE
BEGIN:VEVENT
UID:ai1ec-530@www.iemta.ie/a
DTSTAMP:20171107T122712Z
CATEGORIES;LANGUAGE=en-US:IEMTA Events
CONTACT:
DESCRIPTION:<p dir='ltr'>The IEMTA AGM will be taking place next Friday 16t
 h October between 1250 and 1410. Please note the earlier time slot. We wan
 t to make this a very efficient meeting as the conference is running on a 
 tight schedule. I would kindly ask anyone who has agenda items to forward 
 them to me in the next 5 days.</p>
DTSTART;TZID=Europe/Dublin:20151016T124500
DTEND;TZID=Europe/Dublin:20151016T141500
GEO:+51.896892;-8.486316
LOCATION:Cork County Hall @ Cork\, Ireland
SEQUENCE:0
SUMMARY:IEMTA AGM
URL:http://www.iemta.ie/a/event/iemta-agm-2/
END:VEVENT
END:VCALENDAR
