BEGIN:VCALENDAR
VERSION:2.0
PRODID:-//81.17.255.244//NONSGML kigkonsult.se iCalcreator 2.20//
CALSCALE:GREGORIAN
METHOD:PUBLISH
X-WR-CALNAME:IEMTA
X-WR-CALDESC:Irish Emergency Medicine Trainees Association
X-FROM-URL:http://www.iemta.ie/a
X-WR-TIMEZONE:Europe/Dublin
BEGIN:VTIMEZONE
TZID:Europe/Dublin
X-LIC-LOCATION:Europe/Dublin
BEGIN:STANDARD
DTSTART:20171029T020000
TZOFFSETFROM:+0100
TZOFFSETTO:+0000
TZNAME:GMT
END:STANDARD
BEGIN:DAYLIGHT
DTSTART:20180325T010000
TZOFFSETFROM:+0000
TZOFFSETTO:+0100
TZNAME:IST
END:DAYLIGHT
END:VTIMEZONE
BEGIN:VEVENT
UID:ai1ec-571@www.iemta.ie/a
DTSTAMP:20171107T122104Z
CATEGORIES;LANGUAGE=en-US:EM Events
CONTACT:Beaumont Hospital\; iaem2016conference@gmail.com\; http://www.iaem2
 016.org/
DESCRIPTION:<p>Tickets: <a class='ai1ec-ticket-url-exported' href='https://
 www.eventbrite.ie/e/the-irish-association-for-emergency-medicine-annual-sc
 ientific-meeting-2016-tickets-26969087266?ref=ebtnebtckt'>https://www.even
 tbrite.ie/e/the-irish-association-for-emergency-medicine-annual-scientific
 -meeting-2016-tickets-26969087266?ref=ebtnebtckt</a>.</p>
DTSTART;VALUE=DATE:20161020
DTEND;VALUE=DATE:20161023
GEO:+53.364747;-6.206833
LOCATION:Clontarf Castle Hotel\,  @ Clontarf Castle Hotel\, Castle Ave\, Du
 blin Northside\, Dublin 3\, Ireland
SEQUENCE:0
SUMMARY:IAEM 2016
URL:http://www.iemta.ie/a/event/iaem-2016/
X-COST-TYPE:external
X-TICKETS-URL:https://www.eventbrite.ie/e/the-irish-association-for-emergen
 cy-medicine-annual-scientific-meeting-2016-tickets-26969087266?ref=ebtnebt
 ckt
END:VEVENT
END:VCALENDAR
