BEGIN:VCALENDAR
VERSION:2.0
PRODID:-//81.17.255.244//NONSGML kigkonsult.se iCalcreator 2.20//
CALSCALE:GREGORIAN
METHOD:PUBLISH
X-WR-CALNAME:IEMTA
X-WR-CALDESC:Irish Emergency Medicine Trainees Association
X-FROM-URL:http://www.iemta.ie/a
X-WR-TIMEZONE:Europe/Dublin
BEGIN:VTIMEZONE
TZID:Europe/Dublin
X-LIC-LOCATION:Europe/Dublin
BEGIN:STANDARD
DTSTART:20171029T020000
TZOFFSETFROM:+0100
TZOFFSETTO:+0000
TZNAME:GMT
END:STANDARD
BEGIN:DAYLIGHT
DTSTART:20180325T010000
TZOFFSETFROM:+0000
TZOFFSETTO:+0100
TZNAME:IST
END:DAYLIGHT
END:VTIMEZONE
BEGIN:VEVENT
UID:ai1ec-573@www.iemta.ie/a
DTSTAMP:20171107T122033Z
CATEGORIES;LANGUAGE=en-US:EM Events
CONTACT:
DESCRIPTION:<p>Tickets: <a class='ai1ec-ticket-url-exported' href='http://w
 ww.eusemcongress.org/en/'>http://www.eusemcongress.org/en/</a>.</p>
DTSTART;VALUE=DATE:20161001
DTEND;VALUE=DATE:20161006
GEO:+48.207428;+16.36572
LOCATION:Hofburg Congress Centre Vienna @ Hofburg\, 1010 Wien\, Austria
SEQUENCE:0
SUMMARY:EuSEM 2016
URL:http://www.iemta.ie/a/event/eusem-2016/
X-TICKETS-URL:http://www.eusemcongress.org/en/
END:VEVENT
END:VCALENDAR
