BEGIN:VCALENDAR
VERSION:2.0
PRODID:-//81.17.255.244//NONSGML kigkonsult.se iCalcreator 2.20//
CALSCALE:GREGORIAN
METHOD:PUBLISH
X-WR-CALNAME:IEMTA
X-WR-CALDESC:Irish Emergency Medicine Trainees Association
X-FROM-URL:http://www.iemta.ie/a
X-WR-TIMEZONE:Europe/Dublin
BEGIN:VTIMEZONE
TZID:Europe/Dublin
X-LIC-LOCATION:Europe/Dublin
BEGIN:STANDARD
DTSTART:20171029T020000
TZOFFSETFROM:+0100
TZOFFSETTO:+0000
TZNAME:GMT
END:STANDARD
BEGIN:DAYLIGHT
DTSTART:20180325T010000
TZOFFSETFROM:+0000
TZOFFSETTO:+0100
TZNAME:IST
END:DAYLIGHT
END:VTIMEZONE
BEGIN:VEVENT
UID:ai1ec-654@www.iemta.ie/a
DTSTAMP:20171107T121804Z
CATEGORIES;LANGUAGE=en-US:EM Events
CONTACT:Gaye Moffat\; 012214207\; g.moffat@svuh.ie
DESCRIPTION:The SVUH Emergency Department hosts an introductory course in E
 mergency Medicine twice yearly and the 32nd course is taking place on  Fri
 day 1 and Saturday 2 July 2016.\nSee our news page for full details.\n 
DTSTART;VALUE=DATE:20160701
DTEND;VALUE=DATE:20160703
GEO:+53.316591;-6.21325
LOCATION:St. Vincent's University Hospital @ Saint Vincents University Hosp
 ital\, Nutley Ln\, Dublin Southside\, Dublin 4\, Ireland
SEQUENCE:0
SUMMARY:EMed Induction
URL:http://www.iemta.ie/a/event/emed-induction/
X-COST-TYPE:free
X-ALT-DESC;FMTTYPE=text/html:<!DOCTYPE HTML PUBLIC '-//W3C//DTD HTML 3.2//E
 N'>\\n<HTML>\\n<HEAD>\\n<TITLE></TITLE>\\n</HEAD>\\n<BODY><p>The SVUH Emer
 gency Department hosts an introductory course in Emergency Medicine twice 
 yearly and the 32nd course is taking place on  Friday 1 and Saturday 2 Jul
 y 2016.</p>\n<p>See our <a href='http://www.iemta.ie/a/news/648/'>news pag
 e </a>for full details.</p>\n<p> </p>\n</BODY></HTML>
X-TAGS;LANGUAGE=en-US:em\,induction\,training
X-COST:160
END:VEVENT
END:VCALENDAR
