BEGIN:VCALENDAR
VERSION:2.0
PRODID:-//81.17.255.244//NONSGML kigkonsult.se iCalcreator 2.20//
CALSCALE:GREGORIAN
METHOD:PUBLISH
X-WR-CALNAME:IEMTA
X-WR-CALDESC:Irish Emergency Medicine Trainees Association
X-FROM-URL:http://www.iemta.ie/a
X-WR-TIMEZONE:Europe/Dublin
BEGIN:VTIMEZONE
TZID:Europe/Dublin
X-LIC-LOCATION:Europe/Dublin
BEGIN:STANDARD
DTSTART:20171029T020000
TZOFFSETFROM:+0100
TZOFFSETTO:+0000
TZNAME:GMT
END:STANDARD
BEGIN:DAYLIGHT
DTSTART:20180325T010000
TZOFFSETFROM:+0000
TZOFFSETTO:+0100
TZNAME:IST
END:DAYLIGHT
END:VTIMEZONE
BEGIN:VEVENT
UID:ai1ec-672@www.iemta.ie/a
DTSTAMP:20171107T123030Z
CATEGORIES;LANGUAGE=en-US:IEMTA Events
CONTACT:Owen Keane\; iemtaspring2017@gmail.com\; http://www.iemta.ie/a/news
 /iemta-spring-meeting-2017/
DESCRIPTION:Click here for full details of IEMTA Spring Meeting 2017
DTSTART;TZID=Europe/Dublin:20170428T181500
DTEND;TZID=Europe/Dublin:20170428T214500
GEO:+53.338958;-6.26197
LOCATION:Cheyne Lecture Theatre\, RCSI @ 123 St Stephen's Green\, Dublin 2\
 , D02 YN77\, Ireland
SEQUENCE:0
SUMMARY:Spring Meeting 2017
URL:http://www.iemta.ie/a/event/spring-meeting-2017/
X-COST-TYPE:free
X-ALT-DESC;FMTTYPE=text/html:<!DOCTYPE HTML PUBLIC '-//W3C//DTD HTML 3.2//E
 N'>\\n<HTML>\\n<HEAD>\\n<TITLE></TITLE>\\n</HEAD>\\n<BODY><p><a href='http
 ://www.iemta.ie/a/news/iemta-spring-meeting-2017/'>Click here for full det
 ails of IEMTA Spring Meeting 2017</a></p>\n</BODY></HTML>
END:VEVENT
END:VCALENDAR
