BEGIN:VCALENDAR
VERSION:2.0
PRODID:-//81.17.255.244//NONSGML kigkonsult.se iCalcreator 2.20//
CALSCALE:GREGORIAN
METHOD:PUBLISH
X-WR-CALNAME:IEMTA
X-WR-CALDESC:Irish Emergency Medicine Trainees Association
X-FROM-URL:http://www.iemta.ie/a
X-WR-TIMEZONE:Europe/Dublin
BEGIN:VTIMEZONE
TZID:Europe/Dublin
X-LIC-LOCATION:Europe/Dublin
BEGIN:STANDARD
DTSTART:20171029T020000
TZOFFSETFROM:+0100
TZOFFSETTO:+0000
TZNAME:GMT
END:STANDARD
BEGIN:DAYLIGHT
DTSTART:20180325T010000
TZOFFSETFROM:+0000
TZOFFSETTO:+0100
TZNAME:IST
END:DAYLIGHT
END:VTIMEZONE
BEGIN:VEVENT
UID:ai1ec-697@www.iemta.ie/a
DTSTAMP:20171107T122343Z
CATEGORIES:
CONTACT:Dr Turlough Bolger\; Turlough.Bolger@amnch.ie
DESCRIPTION:“The 4th Irish Paediatric Emergency Research Meeting is taking 
 place on Friday the 7th July in the Centre for Learning and Development in
  Tallaght Hospital commencing at 10am.  The purpose of this meeting is to 
 give trainees and nursing colleagues in Paediatrics and Emergency Medicine
  to present research and audits which they have undertaken on paediatric p
 atients in combined EDs\, Paediatric EDs or paediatric acute units.  There
  will also be guest lectures on topics relevant to Paediatric Emergency Me
 dicine.  Lunch is provided and attendance is free for trainees and 30 euro
 s for consultants.  The meeting is again generously sponsored by Global Me
 dics.  I hope that you will join us for what has proven to be an interesti
 ng and stimulating day of study.
DTSTART;VALUE=DATE:20170707
DTEND;VALUE=DATE:20170708
GEO:+53.290033;-6.377478
LOCATION:Centre for Learning & Development @ Tallaght\, Dublin 24\, D24 NR0
 A\, Ireland
SEQUENCE:0
SUMMARY:Irish Paediatric Emergency Research Meeting
URL:http://www.iemta.ie/a/event/irish-paediatric-emergency-research-meeting
 /
X-COST-TYPE:free
X-ALT-DESC;FMTTYPE=text/html:<!DOCTYPE HTML PUBLIC '-//W3C//DTD HTML 3.2//E
 N'>\\n<HTML>\\n<HEAD>\\n<TITLE></TITLE>\\n</HEAD>\\n<BODY><p>“The 4<sup>th
 </sup> Irish Paediatric Emergency Research Meeting is taking place on <b>F
 riday the 7<sup>th</sup> July</b> in the Centre for Learning and Developme
 nt in Tallaght Hospital commencing at <b>10am</b>.  The purpose of this me
 eting is to give trainees and nursing colleagues in Paediatrics and Emerge
 ncy Medicine to present research and audits which they have undertaken on 
 paediatric patients in combined EDs\, Paediatric EDs or paediatric acute u
 nits.  There will also be guest lectures on topics relevant to Paediatric 
 Emergency Medicine.  Lunch is provided and attendance is free for trainees
  and 30 euros for consultants.  The meeting is again generously sponsored 
 by Global Medics.  I hope that you will join us for what has proven to be 
 an interesting and stimulating day of study.</p>\n</BODY></HTML>
END:VEVENT
END:VCALENDAR
