BEGIN:VCALENDAR
VERSION:2.0
PRODID:-//81.17.255.244//NONSGML kigkonsult.se iCalcreator 2.20//
CALSCALE:GREGORIAN
METHOD:PUBLISH
X-WR-CALNAME:IEMTA
X-WR-CALDESC:Irish Emergency Medicine Trainees Association
X-FROM-URL:http://www.iemta.ie/a
X-WR-TIMEZONE:Europe/Dublin
BEGIN:VTIMEZONE
TZID:Europe/Dublin
X-LIC-LOCATION:Europe/Dublin
BEGIN:STANDARD
DTSTART:20171029T020000
TZOFFSETFROM:+0100
TZOFFSETTO:+0000
TZNAME:GMT
END:STANDARD
BEGIN:DAYLIGHT
DTSTART:20180325T010000
TZOFFSETFROM:+0000
TZOFFSETTO:+0100
TZNAME:IST
END:DAYLIGHT
END:VTIMEZONE
BEGIN:VEVENT
UID:ai1ec-698@www.iemta.ie/a
DTSTAMP:20171107T122241Z
CATEGORIES;LANGUAGE=en-US:EM Events
CONTACT:http://theclubhealthconference.com/
DESCRIPTION:Full details on: http://theclubhealthconference.com/\nTickets: 
 http://theclubhealthconference.com/.
DTSTART;VALUE=DATE:20170524
DTEND;VALUE=DATE:20170527
GEO:+53.342886;-6.267428
LOCATION:Dublin Castle @ Dame St\, Dublin 2\, Co. Dublin\, Ireland
SEQUENCE:0
SUMMARY:Club Health Conference
URL:http://www.iemta.ie/a/event/club-health-conference/
X-COST-TYPE:external
X-ALT-DESC;FMTTYPE=text/html:<!DOCTYPE HTML PUBLIC '-//W3C//DTD HTML 3.2//E
 N'>\\n<HTML>\\n<HEAD>\\n<TITLE></TITLE>\\n</HEAD>\\n<BODY><p>Full details 
 on: <a href='http://theclubhealthconference.com/'>http://theclubhealthconf
 erence.com/</a></p>\n<p>Tickets: <a class='ai1ec-ticket-url-exported' href
 ='http://theclubhealthconference.com/'>http://theclubhealthconference.com/
 </a>.</p></BODY></HTML>
X-TICKETS-URL:http://theclubhealthconference.com/
END:VEVENT
END:VCALENDAR
