BEGIN:VCALENDAR
VERSION:2.0
PRODID:-//81.17.255.244//NONSGML kigkonsult.se iCalcreator 2.20//
CALSCALE:GREGORIAN
METHOD:PUBLISH
X-WR-CALNAME:IEMTA
X-WR-CALDESC:Irish Emergency Medicine Trainees Association
X-FROM-URL:http://www.iemta.ie/a
X-WR-TIMEZONE:Europe/Dublin
BEGIN:VTIMEZONE
TZID:Europe/Dublin
X-LIC-LOCATION:Europe/Dublin
BEGIN:STANDARD
DTSTART:20171029T020000
TZOFFSETFROM:+0100
TZOFFSETTO:+0000
TZNAME:GMT
END:STANDARD
BEGIN:DAYLIGHT
DTSTART:20180325T010000
TZOFFSETFROM:+0000
TZOFFSETTO:+0100
TZNAME:IST
END:DAYLIGHT
END:VTIMEZONE
BEGIN:VEVENT
UID:ai1ec-699@www.iemta.ie/a
DTSTAMP:20171107T122317Z
CATEGORIES;LANGUAGE=en-US:EM Events
CONTACT:http://www.smacc.net.au/
DESCRIPTION:SMACC (Social Media and Critical Care) is a health promotion ch
 arity. It is based on the philosophy of FOAM (Free Open Access Medical edu
 cation – #FOAMed). The organising committee gives their time freely and re
 ceives no financial benefit. This in part explains the wonderful passions 
 for philanthropy\, sharing\, education and innovation that make this criti
 cal care community so unique.\nSMACC has seen spectacular growth since its
  humble beginnings. The Conference has grown from an enthusiastic idea int
 o a global leader amongst critical care events. Whilst SMACC is primarily 
 a high quality\, academic meeting\, the real reason behind this growth is 
 the enormous and inspiring energy of the critical care community itself. S
 MACC crosses traditional hierarchies\, professional barriers and internati
 onal borders. It is a community that is centered on the pursuit of excelle
 nce in patient care and a passion for sharing this as widely as possible.
 \nTickets: https://www.smacc.net.au/.
DTSTART;VALUE=DATE:20170626
DTEND;VALUE=DATE:20170630
GEO:+52.501626;+13.381228
LOCATION:The Tempodrom Berlin @ Möckernstraße 10\, 10963 Berlin\, Germany
SEQUENCE:0
SUMMARY:DAS SMACC
URL:http://www.iemta.ie/a/event/das-smacc/
X-COST-TYPE:external
X-ALT-DESC;FMTTYPE=text/html:<!DOCTYPE HTML PUBLIC '-//W3C//DTD HTML 3.2//E
 N'>\\n<HTML>\\n<HEAD>\\n<TITLE></TITLE>\\n</HEAD>\\n<BODY><p>SMACC (Social
  Media and Critical Care) is a health promotion charity. It is based on th
 e philosophy of FOAM (Free Open Access Medical education – #FOAMed). The o
 rganising committee gives their time freely and receives no financial bene
 fit. This in part explains the wonderful passions for philanthropy\, shari
 ng\, education and innovation that make this critical care community so un
 ique.</p>\n<p>SMACC has seen spectacular growth since its humble beginning
 s. The Conference has grown from an enthusiastic idea into a global leader
  amongst critical care events. Whilst SMACC is primarily a high quality\, 
 academic meeting\, the real reason behind this growth is the enormous and 
 inspiring energy of the critical care community itself. SMACC crosses trad
 itional hierarchies\, professional barriers and international borders. It 
 is a community that is centered on the pursuit of excellence in patient ca
 re and a passion for sharing this as widely as possible.</p>\n<p>Tickets: 
 <a class='ai1ec-ticket-url-exported' href='https://www.smacc.net.au/'>http
 s://www.smacc.net.au/</a>.</p></BODY></HTML>
X-TICKETS-URL:https://www.smacc.net.au/
END:VEVENT
END:VCALENDAR
