BEGIN:VCALENDAR
VERSION:2.0
PRODID:-//81.17.255.244//NONSGML kigkonsult.se iCalcreator 2.20//
CALSCALE:GREGORIAN
METHOD:PUBLISH
X-WR-CALNAME:IEMTA
X-WR-CALDESC:Irish Emergency Medicine Trainees Association
X-FROM-URL:http://www.iemta.ie/a
X-WR-TIMEZONE:Europe/Dublin
BEGIN:VTIMEZONE
TZID:Europe/Dublin
X-LIC-LOCATION:Europe/Dublin
BEGIN:STANDARD
DTSTART:20171029T020000
TZOFFSETFROM:+0100
TZOFFSETTO:+0000
TZNAME:GMT
END:STANDARD
BEGIN:DAYLIGHT
DTSTART:20180325T010000
TZOFFSETFROM:+0000
TZOFFSETTO:+0100
TZNAME:IST
END:DAYLIGHT
END:VTIMEZONE
BEGIN:VEVENT
UID:ai1ec-702@www.iemta.ie/a
DTSTAMP:20171107T122442Z
CATEGORIES;LANGUAGE=en-US:EM Events
CONTACT:http://www.eusemcongress.org
DESCRIPTION:Tickets: http://www.eusemcongress.org/en/register/.
DTSTART;VALUE=DATE:20170923
DTEND;VALUE=DATE:20170928
GEO:+37.98381;+23.727539
LOCATION:Megaron Athens International Conference Centre @ Athens\, Greece
SEQUENCE:0
SUMMARY:EUSEM
URL:http://www.iemta.ie/a/event/eusem/
X-COST-TYPE:external
X-ALT-DESC;FMTTYPE=text/html:<!DOCTYPE HTML PUBLIC '-//W3C//DTD HTML 3.2//E
 N'>\\n<HTML>\\n<HEAD>\\n<TITLE></TITLE>\\n</HEAD>\\n<BODY><p>Tickets: <a c
 lass='ai1ec-ticket-url-exported' href='http://www.eusemcongress.org/en/reg
 ister/'>http://www.eusemcongress.org/en/register/</a>.</p></BODY></HTML>
X-TICKETS-URL:http://www.eusemcongress.org/en/register/
END:VEVENT
END:VCALENDAR
