BEGIN:VCALENDAR
VERSION:2.0
PRODID:-//81.17.255.244//NONSGML kigkonsult.se iCalcreator 2.20//
CALSCALE:GREGORIAN
METHOD:PUBLISH
X-FROM-URL:http://www.iemta.ie/a
X-WR-TIMEZONE:Europe/Dublin
BEGIN:VTIMEZONE
TZID:Europe/Dublin
X-LIC-LOCATION:Europe/Dublin
BEGIN:STANDARD
DTSTART:20171029T020000
TZOFFSETFROM:+0100
TZOFFSETTO:+0000
TZNAME:GMT
END:STANDARD
BEGIN:DAYLIGHT
DTSTART:20180325T010000
TZOFFSETFROM:+0000
TZOFFSETTO:+0100
TZNAME:IST
END:DAYLIGHT
END:VTIMEZONE
BEGIN:VEVENT
UID:ai1ec-455@www.iemta.ie/a
DTSTAMP:20171107T124451Z
CATEGORIES;LANGUAGE=en-US:EM Courses
CONTACT:
DESCRIPTION:Code Blue are running a MIMMS (Major Incident Medical Managemen
 t and Support) course on 23-24 March in Glasnevin Dublin. This will be of 
 interest to ED trainees and any personnel who find themselves responding t
 o major incidents at concerts\, matches\, transport incidents etc.\nDiscou
 nted places will be offered to paramedics/EMTs via the voluntary organisat
 ions. – Exact discount yet to be determined.\nFor full details see attache
 d poster or visit www.CodeBlue.ie\nMIMMS March 2015 Poster\nTickets: http:
 //CodeBlue.ie.
DTSTART;VALUE=DATE:20150323
DTEND;VALUE=DATE:20150325
GEO:+53.382837;-6.27629
LOCATION:Code Blue Training Centre @ Glasnevin\, Co. Dublin\, Ireland
SEQUENCE:0
SUMMARY:MIMMS Course
URL:http://www.iemta.ie/a/event/mimms-course/
X-ALT-DESC;FMTTYPE=text/html:<!DOCTYPE HTML PUBLIC '-//W3C//DTD HTML 3.2//E
 N'>\\n<HTML>\\n<HEAD>\\n<TITLE></TITLE>\\n</HEAD>\\n<BODY><p>Code Blue are
  running a MIMMS (Major Incident Medical Management and Support) course on
  23-24 March in Glasnevin Dublin. This will be of interest to ED trainees 
 and any personnel who find themselves responding to major incidents at con
 certs\, matches\, transport incidents etc.</p>\n<p>Discounted places will 
 be offered to paramedics/EMTs via the voluntary organisations. – Exact dis
 count yet to be determined.</p>\n<p>For full details see attached poster o
 r visit <a href='http://codeblue.ie'>www.CodeBlue.ie</a></p>\n<p><a href='
 http://www.iemta.ie/a/wp-content/uploads/2015/01/MIMMS-March-2015-Poster.p
 df'>MIMMS March 2015 Poster</a></p>\n<p>Tickets: <a class='ai1ec-ticket-ur
 l-exported' href='http://CodeBlue.ie'>http://CodeBlue.ie</a>.</p></BODY></
 HTML>
X-COST:650
X-TICKETS-URL:http://CodeBlue.ie
END:VEVENT
END:VCALENDAR
